BEGIN:VCALENDAR
VERSION:2.0
PRODID:-//Squarespace Inc/Squarespace 6//v6//EN
BEGIN:VEVENT
UID:62a8585772f80829b0a118ec@squarespace.com
DTSTAMP:20220614T094952Z
DTSTART:20220702T130000Z
DTEND:20220702T210000Z
SUMMARY:10 Jahre Milchjugend
GEO:47.343458;8.536479
LOCATION:Rote Fabrik
END:VEVENT
END:VCALENDAR
