BEGIN:VCALENDAR
VERSION:2.0
PRODID:-//Squarespace Inc/Squarespace 6//v6//EN
BEGIN:VEVENT
UID:63c937710667a67fdddd94b2@squarespace.com
DTSTAMP:20230924T123606Z
DTSTART:20231125T190000Z
DTEND:20231125T225900Z
SUMMARY:10 Jahre Mona Gamie: Ein Abend der nostalgischen Sentimentalitäten
GEO:47.351702;8.561324
LOCATION:Millers\, Seefeldstrasse 225\, Zürich
END:VEVENT
END:VCALENDAR
