BEGIN:VCALENDAR
VERSION:2.0
PRODID:-//Squarespace Inc/Squarespace 6//v6//EN
BEGIN:VEVENT
UID:5fcb85ec9708706f399cdb42@squarespace.com
DTSTAMP:20201214T102703Z
DTSTART:20201231T183000Z
DTEND:20201231T225900Z
SUMMARY:ABGESAGT // After Show @ Il barbiere di Siviglia
GEO:47.0506;8.306167
LOCATION:Luzerner Theater\, Theaterstrasse 2\, 6003 Luzern
END:VEVENT
END:VCALENDAR
