BEGIN:VCALENDAR
VERSION:2.0
PRODID:-//Squarespace Inc/Squarespace 6//v6//EN
BEGIN:VEVENT
UID:5eecd241494b5d491f5ad75e@squarespace.com
DTSTAMP:20200713T105301Z
DTSTART:20200801T120000Z
DTEND:20200801T130000Z
SUMMARY:BUATSCH Festival
GEO:46.71766;9.17366
LOCATION:Lumnezia
END:VEVENT
END:VCALENDAR
