BEGIN:VCALENDAR
VERSION:2.0
PRODID:-//Squarespace Inc/Squarespace 6//v6//EN
BEGIN:VEVENT
UID:5e8adef29355142d1eb632dc@squarespace.com
DTSTAMP:20200406T074926Z
DTSTART:20200406T080000Z
DTEND:20200418T220000Z
SUMMARY:derweil Corona-Pause…
END:VEVENT
END:VCALENDAR
