BEGIN:VCALENDAR
VERSION:2.0
PRODID:-//Squarespace Inc/Squarespace 6//v6//EN
BEGIN:VEVENT
UID:646a219a5402b07a40faba81@squarespace.com
DTSTAMP:20230530T121454Z
DTSTART:20230620T183000Z
DTEND:20230620T200000Z
SUMMARY:Drei Damen von Welt
GEO:47.479951;8.300621
LOCATION:Milchbar Baden\, Schmiedestrasse 1\, 5400 Baden
END:VEVENT
END:VCALENDAR
