BEGIN:VCALENDAR
VERSION:2.0
PRODID:-//Squarespace Inc/Squarespace 6//v6//EN
BEGIN:VEVENT
UID:643cf487dbc81876443d7217@squarespace.com
DTSTAMP:20230417T073059Z
DTSTART:20230520T180000Z
DTEND:20230520T190000Z
SUMMARY:Drei Damen von Welt
GEO:47.048522;8.314892
LOCATION:Buvette Inselipark\, Luzern\, Werftsteg\, 6005 Luzern
END:VEVENT
END:VCALENDAR
