BEGIN:VCALENDAR
VERSION:2.0
PRODID:-//Squarespace Inc/Squarespace 6//v6//EN
BEGIN:VEVENT
UID:611bb6e9f7dad950b3e2d366@squarespace.com
DTSTAMP:20210817T131927Z
DTSTART:20210828T140000Z
DTEND:20210828T180000Z
SUMMARY:Eröffnungsfest Regenbogenhaus Zürich
GEO:47.381584;8.530112
LOCATION:Regenbogenhaus Zürich\, 117 Zollstrasse\, Zürich\, ZH\, 8005\, Sch
 weiz
END:VEVENT
END:VCALENDAR
