BEGIN:VCALENDAR
VERSION:2.0
PRODID:-//Squarespace Inc/Squarespace 6//v6//EN
BEGIN:VEVENT
UID:643cf356923359244265712c@squarespace.com
DTSTAMP:20230417T073050Z
DTSTART:20230513T173000Z
DTEND:20230513T215900Z
SUMMARY:Eurovision Song Contest Viewing (Butches &amp\; Fags)
GEO:47.378276;8.508703
LOCATION:ComedyHaus / Théâtre A.part\, Zürich\, Albisriederstrasse 16\, 800
 3 Zürich
END:VEVENT
END:VCALENDAR
