BEGIN:VCALENDAR
VERSION:2.0
PRODID:-//Squarespace Inc/Squarespace 6//v6//EN
BEGIN:VEVENT
UID:5fcb859b85bc3a28a60be544@squarespace.com
DTSTAMP:20201205T130617Z
DTSTART:20201224T210000Z
DTEND:20201224T223000Z
SUMMARY:Community Musical
END:VEVENT
END:VCALENDAR
