BEGIN:VCALENDAR
VERSION:2.0
PRODID:-//Squarespace Inc/Squarespace 6//v6//EN
BEGIN:VEVENT
UID:643cf27e49b6071c3af1cbed@squarespace.com
DTSTAMP:20230417T073039Z
DTSTART:20230512T170000Z
DTEND:20230512T210000Z
SUMMARY:Get Connected Podiumsdiskussion
GEO:47.379595;8.540558
LOCATION:Landesmuseum\, Zürich\, Museumstrasse 2\, 8001 Zürich
END:VEVENT
END:VCALENDAR
