BEGIN:VCALENDAR
VERSION:2.0
PRODID:-//Squarespace Inc/Squarespace 6//v6//EN
BEGIN:VEVENT
UID:62557609c8197541f4e1c7b2@squarespace.com
DTSTAMP:20220412T125723Z
DTSTART:20220604T170000Z
DTEND:20220604T180000Z
SUMMARY:Khur Pride
GEO:46.849672;9.529691
LOCATION:Khur Pride\, Stadtgarten\, 7000 Chur\, Schweiz
END:VEVENT
END:VCALENDAR
