BEGIN:VCALENDAR
VERSION:2.0
PRODID:-//Squarespace Inc/Squarespace 6//v6//EN
BEGIN:VEVENT
UID:5f7d8745bfc9a4408a0fef2c@squarespace.com
DTSTAMP:20201029T075511Z
DTSTART:20201031T190000Z
DTEND:20201031T210000Z
SUMMARY:ABGESAGT // Late Night Drag
END:VEVENT
END:VCALENDAR
