BEGIN:VCALENDAR
VERSION:2.0
PRODID:-//Squarespace Inc/Squarespace 6//v6//EN
BEGIN:VEVENT
UID:651028e79abc6e6b01ac1644@squarespace.com
DTSTAMP:20230925T094448Z
DTSTART:20231028T160000Z
DTEND:20231028T210000Z
SUMMARY:LGBTIQ Conference – Community Night
GEO:46.928748;7.446552
LOCATION:Heitere Fahne\, Dorfstrasse 22-24\, 3084 Wabern bei Bern
END:VEVENT
END:VCALENDAR
