BEGIN:VCALENDAR
VERSION:2.0
PRODID:-//Squarespace Inc/Squarespace 6//v6//EN
BEGIN:VEVENT
UID:649a9a6f9322bc4eb13ce521@squarespace.com
DTSTAMP:20230627T082645Z
DTSTART:20230915T160000Z
DTEND:20230917T020000Z
SUMMARY:lila. queer festival
GEO:47.376887;8.541694
LOCATION:Rote Fabrik\, Zürich
END:VEVENT
END:VCALENDAR
