BEGIN:VCALENDAR
VERSION:2.0
PRODID:-//Squarespace Inc/Squarespace 6//v6//EN
BEGIN:VEVENT
UID:62a858f0e9e7bc27f5e4569b@squarespace.com
DTSTAMP:20220614T094908Z
DTSTART:20220915T100000Z
DTEND:20220917T210000Z
SUMMARY:lila. queer festival
GEO:47.343458;8.536479
LOCATION:Rote Fabrik
END:VEVENT
END:VCALENDAR
