BEGIN:VCALENDAR
VERSION:2.0
PRODID:-//Squarespace Inc/Squarespace 6//v6//EN
BEGIN:VEVENT
UID:5ef1c8e0ff5d8e025b915d84@squarespace.com
DTSTAMP:20200824T104648Z
DTSTART:20200912T153000Z
DTEND:20200912T163000Z
SUMMARY:lila.20 Queer Festival
GEO:47.343558;8.535829
LOCATION:Rote Fabrik\, Seestrasse 395\, 8038 Zürich
END:VEVENT
END:VCALENDAR
