BEGIN:VCALENDAR
VERSION:2.0
PRODID:-//Squarespace Inc/Squarespace 6//v6//EN
BEGIN:VEVENT
UID:611bb66885656862b49aa63e@squarespace.com
DTSTAMP:20210817T131725Z
DTSTART:20210918T140000Z
DTEND:20210918T150000Z
SUMMARY:lila. queer festival
GEO:47.376887;8.541694
LOCATION:Rote Fabrik\, Zürich
END:VEVENT
END:VCALENDAR
