BEGIN:VCALENDAR
VERSION:2.0
PRODID:-//Squarespace Inc/Squarespace 6//v6//EN
BEGIN:VEVENT
UID:5f8ff30afde0fd386bb98e97@squarespace.com
DTSTAMP:20201021T083900Z
DTSTART:20201128T200000Z
DTEND:20201128T220000Z
SUMMARY:Milchball in Monas Wohnzimmer
GEO:47.376887;8.541694
LOCATION:Theater Neumarkt\, Zürich
END:VEVENT
END:VCALENDAR
