BEGIN:VCALENDAR
VERSION:2.0
PRODID:-//Squarespace Inc/Squarespace 6//v6//EN
BEGIN:VEVENT
UID:61771b684f731f5baef9d003@squarespace.com
DTSTAMP:20211025T210407Z
DTSTART:20211120T200000Z
DTEND:20211121T030000Z
SUMMARY:Milchball
GEO:47.376887;8.541694
LOCATION:Theater Neumarkt\, Zürich
END:VEVENT
END:VCALENDAR
