BEGIN:VCALENDAR
VERSION:2.0
PRODID:-//Squarespace Inc/Squarespace 6//v6//EN
BEGIN:VEVENT
UID:6477193cad30b27a5722577c@squarespace.com
DTSTAMP:20230531T095609Z
DTSTART:20230604T170000Z
DTEND:20230604T200000Z
SUMMARY:Pop-Bingo bei Mythengay (Schwyz)
GEO:47.020469;8.658036
LOCATION:Restaurant Hirschen\, Hinterdorfstrasse 14\, 6440 Schwyz
END:VEVENT
END:VCALENDAR
