BEGIN:VCALENDAR
VERSION:2.0
PRODID:-//Squarespace Inc/Squarespace 6//v6//EN
BEGIN:VEVENT
UID:5e7df94e79950130733a5fd8@squarespace.com
DTSTAMP:20200327T130444Z
DTSTART:20200404T180000Z
DTEND:20200404T193000Z
SUMMARY:Queerantäne – Internationales Pop-Kulturgut lokal interpetiert
GEO:47.382239;8.537457
LOCATION:instagram.com/milchjugend
END:VEVENT
END:VCALENDAR
