BEGIN:VCALENDAR
VERSION:2.0
PRODID:-//Squarespace Inc/Squarespace 6//v6//EN
BEGIN:VEVENT
UID:61b70105088ad45893b468af@squarespace.com
DTSTAMP:20220116T095737Z
DTSTART:20220317T190000Z
DTEND:20220317T210000Z
SUMMARY:ABGESAGT // Salon Morpheus
GEO:46.948336;7.443078
LOCATION:Theater am Käfigturm\, Bern\, Spitalgasse 4\, Bern\, Schweiz
END:VEVENT
END:VCALENDAR
