BEGIN:VCALENDAR
VERSION:2.0
PRODID:-//Squarespace Inc/Squarespace 6//v6//EN
BEGIN:VEVENT
UID:61b7007b1ca6e129e0e2a264@squarespace.com
DTSTAMP:20220116T095727Z
DTSTART:20220212T190000Z
DTEND:20220212T210000Z
SUMMARY:ABGESAGT // Salon Morpheus
GEO:47.351702;8.561324
LOCATION:Millers\, Zürich\, Seefeldstrasse 225\, Zürich\, Schweiz
END:VEVENT
END:VCALENDAR
