BEGIN:VCALENDAR
VERSION:2.0
PRODID:-//Squarespace Inc/Squarespace 6//v6//EN
BEGIN:VEVENT
UID:61b70062301f493f9352490d@squarespace.com
DTSTAMP:20220116T095719Z
DTSTART:20220211T190000Z
DTEND:20220211T210000Z
SUMMARY:ABGESAGT // Salon Morpheus
GEO:47.351702;8.561324
LOCATION:Millers\, Zürich\, Seefeldstrasse 225\, Zürich\, Schweiz
END:VEVENT
END:VCALENDAR
