BEGIN:VCALENDAR
VERSION:2.0
PRODID:-//Squarespace Inc/Squarespace 6//v6//EN
BEGIN:VEVENT
UID:62a89009bf30822f9b9907b9@squarespace.com
DTSTAMP:20230119T121639Z
DTSTART:20230128T193000Z
DTEND:20230128T213000Z
SUMMARY:Salon Morpheus Feuerspiele in Bern
GEO:46.959466;7.451836
LOCATION:La Cappella\, Allmendstrasse 24\, 3014 Bern\, Schweiz
END:VEVENT
END:VCALENDAR
