BEGIN:VCALENDAR
VERSION:2.0
PRODID:-//Squarespace Inc/Squarespace 6//v6//EN
BEGIN:VEVENT
UID:62a88fbbb33e967f46c92421@squarespace.com
DTSTAMP:20220614T134319Z
DTSTART:20221210T193000Z
DTEND:20221210T213000Z
SUMMARY:Salon Morpheus Feuerspiele in Zürich
GEO:47.351702;8.561324
LOCATION:Millers\, Seefeldstrasse 225\, 8008 Zürich\, Schweiz
END:VEVENT
END:VCALENDAR
