BEGIN:VCALENDAR
VERSION:2.0
PRODID:-//Squarespace Inc/Squarespace 6//v6//EN
BEGIN:VEVENT
UID:62a88f6cd4a1443caf3ba28b@squarespace.com
DTSTAMP:20220614T134313Z
DTSTART:20221209T193000Z
DTEND:20221209T213000Z
SUMMARY:Salon Morpheus Feuerspiele in Zürich
GEO:47.351702;8.561324
LOCATION:Millers\, Seefeldstrasse 225\, 8008 Zürich\, Schweiz
END:VEVENT
END:VCALENDAR
