BEGIN:VCALENDAR
VERSION:2.0
PRODID:-//Squarespace Inc/Squarespace 6//v6//EN
BEGIN:VEVENT
UID:62a88e721288545ad4919270@squarespace.com
DTSTAMP:20220614T134304Z
DTSTART:20221118T200000Z
DTEND:20221118T223000Z
SUMMARY:Salon Morpheus Feuerspiele in Basel
GEO:47.558291;7.601061
LOCATION:Sudhaus\, 7 Burgweg\, Basel\, BS\, 4058\, Schweiz
END:VEVENT
END:VCALENDAR
