BEGIN:VCALENDAR
VERSION:2.0
PRODID:-//Squarespace Inc/Squarespace 6//v6//EN
BEGIN:VEVENT
UID:62a88e50b33e967f46c8f8af@squarespace.com
DTSTAMP:20220614T134254Z
DTSTART:20221029T190000Z
DTEND:20221029T213000Z
SUMMARY:Salon Morpheus Feuerspiele in Baden
GEO:47.47813;8.308625
LOCATION:Royal Baden\, Bahnhofstrasse 39\, 5400 Baden
END:VEVENT
END:VCALENDAR
