BEGIN:VCALENDAR
VERSION:2.0
PRODID:-//Squarespace Inc/Squarespace 6//v6//EN
BEGIN:VEVENT
UID:62a88dc31e1d6f643ae691a4@squarespace.com
DTSTAMP:20220614T134241Z
DTSTART:20221028T190000Z
DTEND:20221028T213000Z
SUMMARY:Salon Morpheus Feuerspiele in Baden
GEO:47.47813;8.308625
LOCATION:Royal Baden\, Bahnhofstrasse 39\, 5400 Baden
END:VEVENT
END:VCALENDAR
