BEGIN:VCALENDAR
VERSION:2.0
PRODID:-//Squarespace Inc/Squarespace 6//v6//EN
BEGIN:VEVENT
UID:5eeccf71edd98d287c0b7924@squarespace.com
DTSTAMP:20201105T143406Z
DTSTART:20201127T190000Z
DTEND:20201127T210000Z
SUMMARY:ABGESAGT // Salon Morpheus – Mondsucht
GEO:46.947974;7.447447
LOCATION:Theater am Käfigturm\, Bern
END:VEVENT
END:VCALENDAR
