BEGIN:VCALENDAR
VERSION:2.0
PRODID:-//Squarespace Inc/Squarespace 6//v6//EN
BEGIN:VEVENT
UID:5eecd17f80463449c93eecb4@squarespace.com
DTSTAMP:20210111T092605Z
DTSTART:20210205T193000Z
DTEND:20210205T213000Z
SUMMARY:ABGESAGT || Salon Morpheus – Mondsucht
GEO:47.351702;8.561324
LOCATION:Millers\, Seefeldstrasse 225\, Zürich
END:VEVENT
END:VCALENDAR
