BEGIN:VCALENDAR
VERSION:2.0
PRODID:-//Squarespace Inc/Squarespace 6//v6//EN
BEGIN:VEVENT
UID:5eeccfc799872041c93f23bb@squarespace.com
DTSTAMP:20210111T092559Z
DTSTART:20210204T193000Z
DTEND:20210204T213000Z
SUMMARY:ABGESAGT || Salon Morpheus – Mondsucht
GEO:47.351702;8.561324
LOCATION:Millers\, Seefeldstrasse 225\, Zürich
END:VEVENT
END:VCALENDAR
