BEGIN:VCALENDAR
VERSION:2.0
PRODID:-//Squarespace Inc/Squarespace 6//v6//EN
BEGIN:VEVENT
UID:5eecce785d3bb83b33c4f4cd@squarespace.com
DTSTAMP:20201029T075522Z
DTSTART:20201114T203000Z
DTEND:20201114T223000Z
SUMMARY:ABGESAGT // Salon Morpheus – Mondsucht
GEO:47.478198;8.308673
LOCATION:Royal Baden\, Bahnhofstrasse 39\, 5400 Baden
END:VEVENT
END:VCALENDAR
