BEGIN:VCALENDAR
VERSION:2.0
PRODID:-//Squarespace Inc/Squarespace 6//v6//EN
BEGIN:VEVENT
UID:5dfe203427eac52da173857e@squarespace.com
DTSTAMP:20200619T144222Z
DTSTART:20200307T193000Z
DTEND:20200307T213000Z
SUMMARY:Salon Morpheus – Mondsucht
GEO:47.351717;8.561326
LOCATION:Millers\, Zürich
END:VEVENT
END:VCALENDAR
