BEGIN:VCALENDAR
VERSION:2.0
PRODID:-//Squarespace Inc/Squarespace 6//v6//EN
BEGIN:VEVENT
UID:5dfe201d8c6e911e4fe43f5a@squarespace.com
DTSTAMP:20200304T173348Z
DTSTART:20200305T193000Z
DTEND:20200305T213000Z
SUMMARY:Salon Morpheus – Mondsucht
GEO:40.720756;-74.000761
LOCATION:Millers\, Zürich
END:VEVENT
END:VCALENDAR
