BEGIN:VCALENDAR
VERSION:2.0
PRODID:-//Squarespace Inc/Squarespace 6//v6//EN
BEGIN:VEVENT
UID:5dfe200571e0665b4c566493@squarespace.com
DTSTAMP:20191222T154533Z
DTSTART:20200301T193000Z
DTEND:20200301T213000Z
SUMMARY:Salon Morpheus – Mondsucht
GEO:47.351717;8.561326
LOCATION:Millers\, Zürich
END:VEVENT
END:VCALENDAR
