BEGIN:VCALENDAR
VERSION:2.0
PRODID:-//Squarespace Inc/Squarespace 6//v6//EN
BEGIN:VEVENT
UID:5dfe1fdd96c1db55a0c4aa33@squarespace.com
DTSTAMP:20191222T154524Z
DTSTART:20200229T193000Z
DTEND:20200229T213000Z
SUMMARY:Salon Morpheus – Mondsucht
GEO:47.351717;8.561326
LOCATION:Millers\, Zürich
END:VEVENT
END:VCALENDAR
