BEGIN:VCALENDAR
VERSION:2.0
PRODID:-//Squarespace Inc/Squarespace 6//v6//EN
BEGIN:VEVENT
UID:623da73bb64a603c477becb4@squarespace.com
DTSTAMP:20220325T113039Z
DTSTART:20220417T193000Z
DTEND:20220417T203000Z
SUMMARY:Salon Morpheus Selektion in Basel
GEO:47.557317;7.582574
LOCATION:Hommage\, Basel
END:VEVENT
END:VCALENDAR
