BEGIN:VCALENDAR
VERSION:2.0
PRODID:-//Squarespace Inc/Squarespace 6//v6//EN
BEGIN:VEVENT
UID:623da739b7e4217b6521677d@squarespace.com
DTSTAMP:20220325T113048Z
DTSTART:20220416T183000Z
DTEND:20220416T193000Z
SUMMARY:Salon Morpheus Selektion in Baden
GEO:47.473162;8.30809
LOCATION:UnvermeidBar\, Baden
END:VEVENT
END:VCALENDAR
