BEGIN:VCALENDAR
VERSION:2.0
PRODID:-//Squarespace Inc/Squarespace 6//v6//EN
BEGIN:VEVENT
UID:623da7344c050460b0f8ae12@squarespace.com
DTSTAMP:20220325T113055Z
DTSTART:20220415T183000Z
DTEND:20220415T193000Z
SUMMARY:Salon Morpheus Selektion in Zürich
GEO:47.381169;8.531767
LOCATION:Amboss Garage\, Zürich
END:VEVENT
END:VCALENDAR
