BEGIN:VCALENDAR
VERSION:2.0
PRODID:-//Squarespace Inc/Squarespace 6//v6//EN
BEGIN:VEVENT
UID:63c937017934c0753b4c3f62@squarespace.com
DTSTAMP:20230123T115926Z
DTSTART:20230415T180000Z
DTEND:20230415T200000Z
SUMMARY:Salon Morpheus Selektion IV in Zürich
GEO:47.351702;8.561324
LOCATION:Millers\, Seefeldstrasse 225\, Zürich\, Schweiz
END:VEVENT
END:VCALENDAR
