BEGIN:VCALENDAR
VERSION:2.0
PRODID:-//Squarespace Inc/Squarespace 6//v6//EN
BEGIN:VEVENT
UID:63c936bac494057df1f25864@squarespace.com
DTSTAMP:20230119T122638Z
DTSTART:20230414T183000Z
DTEND:20230414T203000Z
SUMMARY:Salon Morpheus Selektion IV in Basel
GEO:47.562685;7.591265
LOCATION:Amber Bar\, Kasernenhof 6\, Basel\, Schweiz
END:VEVENT
END:VCALENDAR
