BEGIN:VCALENDAR
VERSION:2.0
PRODID:-//Squarespace Inc/Squarespace 6//v6//EN
BEGIN:VEVENT
UID:63c93688f5d36c5cdb0fe14b@squarespace.com
DTSTAMP:20230119T122526Z
DTSTART:20230413T180000Z
DTEND:20230413T200000Z
SUMMARY:Salon Morpheus Selektion IV in Bern
GEO:46.959465;7.45183
LOCATION:La Capella\, Allmendstrasse 24\, Bern\, Schweiz
END:VEVENT
END:VCALENDAR
