BEGIN:VCALENDAR
VERSION:2.0
PRODID:-//Squarespace Inc/Squarespace 6//v6//EN
BEGIN:VEVENT
UID:63c93604641b487920a43716@squarespace.com
DTSTAMP:20230119T122440Z
DTSTART:20230412T183000Z
DTEND:20230412T203000Z
SUMMARY:Salon Morpheus Selektion IV in Chur
GEO:46.848699;9.53054
LOCATION:Werkstatt\, 9 Untere Gasse\, Chur\, GR\, 7000\, Schweiz
END:VEVENT
END:VCALENDAR
