BEGIN:VCALENDAR
VERSION:2.0
PRODID:-//Squarespace Inc/Squarespace 6//v6//EN
BEGIN:VEVENT
UID:63c93577c3b8b03f86e2a160@squarespace.com
DTSTAMP:20230304T135354Z
DTSTART:20230401T183000Z
DTEND:20230401T203000Z
SUMMARY:Salon Morpheus Selektion III in Basel
GEO:47.562685;7.591265
LOCATION:Amber Bar\, 6 Kasernenstrasse\, Basel\, BS\, 4058\, Schweiz
END:VEVENT
END:VCALENDAR
