BEGIN:VCALENDAR
VERSION:2.0
PRODID:-//Squarespace Inc/Squarespace 6//v6//EN
BEGIN:VEVENT
UID:63c93574882fd2748baa9136@squarespace.com
DTSTAMP:20230304T135444Z
DTSTART:20230331T183000Z
DTEND:20230331T203000Z
SUMMARY:Salon Morpheus Selektion III in Luzern
GEO:47.051745;8.298255
LOCATION:Madeleine\, 15 Baselstrasse\, Luzern\, LU\, 6003\, Schweiz
END:VEVENT
END:VCALENDAR
