BEGIN:VCALENDAR
VERSION:2.0
PRODID:-//Squarespace Inc/Squarespace 6//v6//EN
BEGIN:VEVENT
UID:63c934a9c943bb4f9bf50529@squarespace.com
DTSTAMP:20230119T122245Z
DTSTART:20230225T190000Z
DTEND:20230225T210000Z
SUMMARY:Salon Morpheus Selektion III in Zürich
GEO:47.351702;8.561324
LOCATION:Millers\, 225 Seefeldstrasse\, Zürich\, ZH\, 8008\, Schweiz
END:VEVENT
END:VCALENDAR
