BEGIN:VCALENDAR
VERSION:2.0
PRODID:-//Squarespace Inc/Squarespace 6//v6//EN
BEGIN:VEVENT
UID:623da696bb81c974a0c6bd7c@squarespace.com
DTSTAMP:20220325T112921Z
DTSTART:20220414T183000Z
DTEND:20220414T193000Z
SUMMARY:Salon Morpheus Selektion in Luzern
GEO:47.051753;8.298259
LOCATION:Madeleine\, Luzern
END:VEVENT
END:VCALENDAR
